BEGIN:VCALENDAR
VERSION:2.0
PRODID:spatie/icalendar-generator
DESCRIPTION:Events from W0RRC
X-WR-CALDESC:Events from W0RRC
REFRESH-INTERVAL;VALUE=DURATION:PT1440M
X-PUBLISHED-TTL:PT1440M
BEGIN:VTIMEZONE
TZID:America/Chicago
BEGIN:DAYLIGHT
DTSTART:20250309T020000Z
TZOFFSETFROM:-0600
TZOFFSETTO:-0500
END:DAYLIGHT
BEGIN:STANDARD
DTSTART:20251102T020000Z
TZOFFSETFROM:-0500
TZOFFSETTO:-0600
END:STANDARD
BEGIN:DAYLIGHT
DTSTART:20260308T020000Z
TZOFFSETFROM:-0600
TZOFFSETTO:-0500
END:DAYLIGHT
END:VTIMEZONE
BEGIN:VTIMEZONE
TZID:UTC
BEGIN:STANDARD
DTSTART:20250725T082415Z
TZOFFSETFROM:+0000
TZOFFSETTO:+0000
END:STANDARD
END:VTIMEZONE
BEGIN:VEVENT
UID:340-5
DTSTAMP:20260421T082415Z
SUMMARY:North Star Radio Convention
LOCATION:Hennepin Technical College 9000 Brooklyn Blvd  Brooklyn Park MN 55
 445
ORGANIZER;CN=w0rrc:MAILTO:mattj@invisik.com
DTSTART;TZID=America/Chicago:20251011T080000
DTEND;TZID=America/Chicago:20251011T160000
X-ALT-DESC;FMTTYPE=TEXT/HTML:Join the North Star Radio Convention\, the pre
 mier statewide event for Minnesota amateur radio enthusiasts. North Star i
 s known for its expert speakers and workshops covering topics tailored to 
 all levels of experience\, ensuring there’s something for everyone. Nort
 h Star Radio Convention Site
CATEGORIES:ARRL Events
URL;VALUE=URI:https://w0rrc.org/mc-events/north-star-radio-convention/
METHOD:PUBLISH
END:VEVENT
END:VCALENDAR