BEGIN:VCALENDAR
VERSION:2.0
PRODID:spatie/icalendar-generator
DESCRIPTION:Events from W0RRC
X-WR-CALDESC:Events from W0RRC
REFRESH-INTERVAL;VALUE=DURATION:PT1440M
X-PUBLISHED-TTL:PT1440M
BEGIN:VTIMEZONE
TZID:America/Chicago
BEGIN:STANDARD
DTSTART:20241103T020000Z
TZOFFSETFROM:-0500
TZOFFSETTO:-0600
END:STANDARD
BEGIN:DAYLIGHT
DTSTART:20250309T020000Z
TZOFFSETFROM:-0600
TZOFFSETTO:-0500
END:DAYLIGHT
BEGIN:STANDARD
DTSTART:20251102T020000Z
TZOFFSETFROM:-0500
TZOFFSETTO:-0600
END:STANDARD
END:VTIMEZONE
BEGIN:VTIMEZONE
TZID:UTC
BEGIN:STANDARD
DTSTART:20250725T084502Z
TZOFFSETFROM:+0000
TZOFFSETTO:+0000
END:STANDARD
END:VTIMEZONE
BEGIN:VEVENT
UID:2-2
DTSTAMP:20260421T084502Z
SUMMARY:ARRL Field Day 2025
LOCATION:Richfield Community Center 7000 Nicollet Avenue  Richfield MN 5542
 3
ORGANIZER;CN=w0rrc:MAILTO:mattj@invisik.com
DTSTART;TZID=America/Chicago:20250628T100000
DTEND;TZID=America/Chicago:20250628T180000
X-ALT-DESC;FMTTYPE=TEXT/HTML:Join us as we gather for ARRL’s annual Field
  Day event. We’ll be operating from the Richfield Community Center. Setu
 p begins at 10:00 and operation begins at 13:00 Central Time!
CATEGORIES:Field Days,  ARRL Events,  General
URL;VALUE=URI:https://w0rrc.org/mc-events/arrl-field-day-2025/
METHOD:PUBLISH
END:VEVENT
END:VCALENDAR